BEGIN:VCALENDAR
VERSION:2.0
PRODID:icalendar-ruby
CALSCALE:GREGORIAN
METHOD:PUBLISH
BEGIN:VEVENT
DTSTAMP:20260425T142954Z
UID:36-1410115@ccchurchsb.com
DTSTART:20261031T013000Z
DTEND:20261031T030000Z
CLASS:PUBLIC
CREATED:20260425T065752
DESCRIPTION:
LAST-MODIFIED:20260425T065752
LOCATION:1140 W 48th St San Bernardino Ca 92407
SUMMARY:Youth Night
URL;VALUE=URI:https://www.ccchurchsb.com/events/youth-night/2026-10-30
END:VEVENT
END:VCALENDAR
