BEGIN:VCALENDAR
VERSION:2.0
PRODID:icalendar-ruby
CALSCALE:GREGORIAN
METHOD:PUBLISH
BEGIN:VEVENT
DTSTAMP:20260425T040851Z
UID:36-1408316@ccchurchsb.com
DTSTART:20260919T013000Z
DTEND:20260919T030000Z
CLASS:PUBLIC
CREATED:20260424T182857
DESCRIPTION:
LAST-MODIFIED:20260424T182857
LOCATION:1140 W 48th St San Bernardino Ca 92407
SUMMARY:Youth Night
URL;VALUE=URI:https://www.ccchurchsb.com/events/youth-night/2026-09-18
END:VEVENT
END:VCALENDAR
