BEGIN:VCALENDAR
VERSION:2.0
PRODID:icalendar-ruby
CALSCALE:GREGORIAN
METHOD:PUBLISH
BEGIN:VEVENT
DTSTAMP:20260425T003457Z
UID:36-1407418@ccchurchsb.com
DTSTART:20260905T013000Z
DTEND:20260905T030000Z
CLASS:PUBLIC
CREATED:20260424T154032
DESCRIPTION:
LAST-MODIFIED:20260424T154032
LOCATION:1140 W 48th St San Bernardino Ca 92407
SUMMARY:Youth Night
URL;VALUE=URI:https://www.ccchurchsb.com/events/youth-night/2026-09-04
END:VEVENT
END:VCALENDAR
