BEGIN:VCALENDAR
VERSION:2.0
PRODID:icalendar-ruby
CALSCALE:GREGORIAN
METHOD:PUBLISH
BEGIN:VEVENT
DTSTAMP:20260424T191717Z
UID:36-1405623@ccchurchsb.com
DTSTART:20260815T013000Z
DTEND:20260815T030000Z
CLASS:PUBLIC
CREATED:20260424T100603
DESCRIPTION:
LAST-MODIFIED:20260424T100603
LOCATION:1140 W 48th St San Bernardino Ca 92407
SUMMARY:Youth Night
URL;VALUE=URI:https://www.ccchurchsb.com/events/youth-night/2026-08-14
END:VEVENT
END:VCALENDAR
