BEGIN:VCALENDAR
VERSION:2.0
PRODID:icalendar-ruby
CALSCALE:GREGORIAN
METHOD:PUBLISH
BEGIN:VEVENT
DTSTAMP:20260424T141938Z
UID:36-1404724@ccchurchsb.com
DTSTART:20260725T013000Z
DTEND:20260725T030000Z
CLASS:PUBLIC
CREATED:20260424T071726
DESCRIPTION:
LAST-MODIFIED:20260424T071726
LOCATION:1140 W 48th St San Bernardino Ca 92407
SUMMARY:Youth Night
URL;VALUE=URI:https://www.ccchurchsb.com/events/youth-night/2026-07-24
END:VEVENT
END:VCALENDAR
