BEGIN:VCALENDAR
VERSION:2.0
PRODID:icalendar-ruby
CALSCALE:GREGORIAN
METHOD:PUBLISH
BEGIN:VEVENT
DTSTAMP:20260425T125255Z
UID:6-1408587@ccchurchsb.com
DTSTART:20261021T013000Z
DTEND:20261021T033000Z
CLASS:PUBLIC
CREATED:20260425T041629
DESCRIPTION:
LAST-MODIFIED:20260425T041629
LOCATION:1140 W 48th St\, San Bernardino\, CA 92407
SUMMARY:Tuesday Night Bible Study
URL;VALUE=URI:https://www.ccchurchsb.com/events/tuesday-night-bible-study/2
 026-10-20
ATTACH;FILENAME=bible study.jpg;FMTTYPE=image/jpeg:https://dq5pwpg1q8ru0.cl
 oudfront.net/2024/02/26/23/56/55/993362f1-d188-4d78-b49d-319e66b7bc24/bibl
 e%20study.jpg
END:VEVENT
END:VCALENDAR
